BEGIN:VCALENDAR
VERSION:2.0
PRODID:-//Plone.org//NONSGML plone.app.event//EN
X-WR-TIMEZONE:US/Central
BEGIN:VEVENT
SUMMARY:Weimar Chess Club
DTSTART;TZID=US/Central:20260303T154500
DTEND;TZID=US/Central:20260303T164500
DTSTAMP:20260421T081958Z
UID:142fdda0a6a042bcb0f232f30e4a245b@saas_stack_varnish:6080
RRULE:FREQ=WEEKLY;COUNT=7
EXDATE;TZID=US/Central:20260310T000000,20260407T000000,20260414T000000
CONTACT:Misty Strode\, (979)725-6608\, library@weimartx.gov
CREATED:20260223T151844Z
LAST-MODIFIED:20260223T151854Z
LOCATION:Weimar Public Library
URL:https://weimar.ploud.net/weimar-chess-club-19
END:VEVENT
BEGIN:VTIMEZONE
TZID:US/Central
X-LIC-LOCATION:US/Central
BEGIN:STANDARD
DTSTART:20251102T010000
TZNAME:CST
TZOFFSETFROM:-0500
TZOFFSETTO:-0600
END:STANDARD
END:VTIMEZONE
END:VCALENDAR
