BEGIN:VCALENDAR
VERSION:2.0
PRODID:-//Plone.org//NONSGML plone.app.event//EN
X-WR-TIMEZONE:US/Central
BEGIN:VEVENT
SUMMARY:Weimar Chess Club
DTSTART;TZID=US/Central:20251014T154500
DTEND;TZID=US/Central:20251014T164500
DTSTAMP:20260421T081928Z
UID:5d73b2a4e4934b4c9811a8c9b65434ea@saas_stack_varnish:6080
CONTACT:Misty Strode\, (979)725-6608\, library@weimartx.gov
CREATED:20250929T143929Z
DESCRIPTION:FREE for all ages!! No membership required!!\nLead by Scholast
 ic Coach David McCall who teaches you how to play chess and gives you winn
 ing tips.
LAST-MODIFIED:20250929T143935Z
LOCATION:Weimar Public Library
URL:https://weimar.ploud.net/weimar-chess-club-13
END:VEVENT
BEGIN:VTIMEZONE
TZID:US/Central
X-LIC-LOCATION:US/Central
BEGIN:DAYLIGHT
DTSTART:20250309T030000
TZNAME:CDT
TZOFFSETFROM:-0600
TZOFFSETTO:-0500
END:DAYLIGHT
END:VTIMEZONE
END:VCALENDAR
