BEGIN:VCALENDAR
VERSION:2.0
PRODID:-//Plone.org//NONSGML plone.app.event//EN
X-WR-TIMEZONE:US/Central
BEGIN:VEVENT
SUMMARY:Needle Felting Club
DTSTART;TZID=US/Central:20250926T153000
DTEND;TZID=US/Central:20250926T163000
DTSTAMP:20260419T133010Z
UID:d95f112a9ec04384aa3414ef3a220197@saas_stack_varnish:6080
CONTACT:Misty Strode\, (979)725-6608\, library@weimartx.gov
CREATED:20250902T153818Z
DESCRIPTION:Needling felt\, also known as needle felting\, is a crafting p
 rocess where loose wool fibers are tangled and condensed using special bar
 bed needles to create 3D sculptures or 2D art. You'll need wool (like rovi
 ng)\, a felting needle (or multi-needle tool)\, a felting mat\, and option
 al finger protectors to prevent injury. The technique involves repeated st
 abbing motions with the needle\, causing the wool fibers to interlock and 
 firm up into a desired shape.\n**Please Register with the Library
LAST-MODIFIED:20250902T153832Z
LOCATION:Weimar Public Library
URL:https://weimar.ploud.net/needle-felting-club-3
END:VEVENT
BEGIN:VTIMEZONE
TZID:US/Central
X-LIC-LOCATION:US/Central
BEGIN:DAYLIGHT
DTSTART:20250309T030000
TZNAME:CDT
TZOFFSETFROM:-0600
TZOFFSETTO:-0500
END:DAYLIGHT
END:VTIMEZONE
END:VCALENDAR
