BEGIN:VCALENDAR
VERSION:2.0
PRODID:-//Plone.org//NONSGML plone.app.event//EN
X-WR-TIMEZONE:US/Central
BEGIN:VEVENT
SUMMARY:National READ A BOOK Day!!
DTSTART;TZID=US/Central:20250906T100000
DTEND;TZID=US/Central:20250906T170000
DTSTAMP:20260421T110707Z
UID:23ce45a1c630477e84b999641f36a468@saas_stack_varnish:6080
CREATED:20250902T155010Z
DESCRIPTION:National "Read a Book Day" is observed every year on September
  6th. The event encourages people to set aside time to enjoy a book and ce
 lebrates the pleasures of reading and literacy. \n\nHistory:\nWhile the da
 y's origins are unclear\, it is believed to have started in the United Sta
 tes and was likely created to encourage people to read more. In a world of
  digital media and distractions\, it serves as a reminder to pause and app
 reciate the written word. \n\nBenefits of reading:\nTaking time to read of
 fers many benefits\, including:\n*Mental stimulation: Reading improves mem
 ory\, concentration\, and analytical thinking.\n*Reduced stress: A 2009 st
 udy by the University of Sussex found that reading for just six minutes ca
 n lower stress levels by 68%.\nImproved sleep: Reading before bed can help
  you relax and prepare for more restful sleep.\n*Increased empathy: Engagi
 ng with different characters and perspectives can build greater empathy an
 d compassion.\n*Expanded knowledge: Reading is an accessible way to learn 
 about new subjects and broaden your horizons.
LAST-MODIFIED:20250902T155021Z
URL:https://weimar.ploud.net/national-read-a-book-day
END:VEVENT
BEGIN:VTIMEZONE
TZID:US/Central
X-LIC-LOCATION:US/Central
BEGIN:DAYLIGHT
DTSTART:20250309T030000
TZNAME:CDT
TZOFFSETFROM:-0600
TZOFFSETTO:-0500
END:DAYLIGHT
END:VTIMEZONE
END:VCALENDAR
