BEGIN:VCALENDAR
VERSION:2.0
PRODID:-//Plone.org//NONSGML plone.app.event//EN
X-WR-TIMEZONE:US/Central
BEGIN:VEVENT
SUMMARY:Kids Christmas Cooking Class
DTSTART;TZID=US/Central:20251212T100000
DTEND;TZID=US/Central:20251212T110000
DTSTAMP:20260421T082142Z
UID:161b9797cc7b47a18e84250a28599bf9@saas_stack_varnish:6080
CONTACT:Misty Strode\, (979)725-6608\, library@weimartx.gov
CREATED:20251117T171440Z
LAST-MODIFIED:20251117T171830Z
LOCATION:Weimar Public Library
URL:https://weimar.ploud.net/monthly-event-calendar/kids-christmas-cooking
 -class
END:VEVENT
BEGIN:VTIMEZONE
TZID:US/Central
X-LIC-LOCATION:US/Central
BEGIN:STANDARD
DTSTART:20251102T010000
TZNAME:CST
TZOFFSETFROM:-0500
TZOFFSETTO:-0600
END:STANDARD
END:VTIMEZONE
END:VCALENDAR
