BEGIN:VCALENDAR
VERSION:2.0
PRODID:-//Plone.org//NONSGML plone.app.event//EN
X-WR-TIMEZONE:US/Central
BEGIN:VEVENT
SUMMARY:Little Spoonfuls Cooking Class
DTSTART;TZID=US/Central:20251010T100000
DTEND;TZID=US/Central:20251010T110000
DTSTAMP:20260419T115037Z
UID:17f91e3c566545a0925cf1af38f6b4a9@saas_stack_varnish:6080
ATTENDEE;CN="For ages 3-4 years";ROLE=REQ-PARTICIPANT:For ages 3-4 years
CONTACT:Misty Strode\, (979)725-6608\, library@weimartx.gov
CREATED:20251002T165705Z
DESCRIPTION:Hey\, Food Explorers! Come join our cooking class! It's time t
 o stir\, mix\, taste\, and discover new flavors together!! **Please regist
 er with the Weimar Public Library**
LAST-MODIFIED:20251002T165819Z
LOCATION:Weimar Public Library
URL:https://weimar.ploud.net/little-spoonfuls-cooking-class
END:VEVENT
BEGIN:VTIMEZONE
TZID:US/Central
X-LIC-LOCATION:US/Central
BEGIN:DAYLIGHT
DTSTART:20250309T030000
TZNAME:CDT
TZOFFSETFROM:-0600
TZOFFSETTO:-0500
END:DAYLIGHT
END:VTIMEZONE
END:VCALENDAR
