BEGIN:VCALENDAR
VERSION:2.0
PRODID:-//Plone.org//NONSGML plone.app.event//EN
X-WR-TIMEZONE:US/Central
BEGIN:VEVENT
SUMMARY:Library in Motion
DTSTART;TZID=US/Central:20260218T100000
DTEND;TZID=US/Central:20260218T110000
DTSTAMP:20260421T110653Z
UID:c07e05c9534e422d8371da7f95c86384@saas_stack_varnish:6080
CONTACT:Misty Strode\, (979)725-6608\, library@weimartx.gov
CREATED:20260112T164138Z
LAST-MODIFIED:20260112T164146Z
LOCATION:Weimar Public Library
URL:https://weimar.ploud.net/library-in-motion-28
END:VEVENT
BEGIN:VTIMEZONE
TZID:US/Central
X-LIC-LOCATION:US/Central
BEGIN:STANDARD
DTSTART:20251102T010000
TZNAME:CST
TZOFFSETFROM:-0500
TZOFFSETTO:-0600
END:STANDARD
END:VTIMEZONE
END:VCALENDAR
