BEGIN:VCALENDAR
VERSION:2.0
PRODID:-//Plone.org//NONSGML plone.app.event//EN
X-WR-TIMEZONE:US/Central
BEGIN:VEVENT
SUMMARY:Library in Motion
DTSTART;TZID=US/Central:20260211T100000
DTEND;TZID=US/Central:20260211T110000
DTSTAMP:20260421T110652Z
UID:62ce3b129667464d8bb2139d389d0a21@saas_stack_varnish:6080
CONTACT:Misty Strode\, (979)725-6608\, library@weimartx.gov
CREATED:20260112T163958Z
LAST-MODIFIED:20260114T182236Z
LOCATION:Weimar Public Library
URL:https://weimar.ploud.net/library-in-motion-27
END:VEVENT
BEGIN:VTIMEZONE
TZID:US/Central
X-LIC-LOCATION:US/Central
BEGIN:STANDARD
DTSTART:20251102T010000
TZNAME:CST
TZOFFSETFROM:-0500
TZOFFSETTO:-0600
END:STANDARD
END:VTIMEZONE
END:VCALENDAR
