BEGIN:VCALENDAR
VERSION:2.0
PRODID:-//Plone.org//NONSGML plone.app.event//EN
X-WR-TIMEZONE:US/Central
BEGIN:VEVENT
SUMMARY:Library in Motion
DTSTART;TZID=US/Central:20251203T100000
DTEND;TZID=US/Central:20251203T110000
DTSTAMP:20260421T082958Z
UID:e03687a69628449aa1ca021dd463e8ba@saas_stack_varnish:6080
CONTACT:Misty Strode\, (979)725-6608\, library@weimartx.gov
CREATED:20251117T165318Z
LAST-MODIFIED:20251117T171946Z
LOCATION:Weimar Public Library
URL:https://weimar.ploud.net/library-in-motion-21
END:VEVENT
BEGIN:VTIMEZONE
TZID:US/Central
X-LIC-LOCATION:US/Central
BEGIN:STANDARD
DTSTART:20251102T010000
TZNAME:CST
TZOFFSETFROM:-0500
TZOFFSETTO:-0600
END:STANDARD
END:VTIMEZONE
END:VCALENDAR
