BEGIN:VCALENDAR
VERSION:2.0
PRODID:-//Plone.org//NONSGML plone.app.event//EN
X-WR-TIMEZONE:US/Central
BEGIN:VEVENT
SUMMARY:Library in Motion
DTSTART;TZID=US/Central:20251001T100000
DTEND;TZID=US/Central:20251001T110000
DTSTAMP:20260421T082958Z
UID:5b4a09eaa4254e1e82f725f32db439d8@saas_stack_varnish:6080
CONTACT:Misty Strode\, (979)725-6608\, library@weimartx.gov
CREATED:20251002T153521Z
DESCRIPTION:**CANCELLED**
LAST-MODIFIED:20251002T153527Z
LOCATION:Weimar Public Library
URL:https://weimar.ploud.net/library-in-motion-16
END:VEVENT
BEGIN:VTIMEZONE
TZID:US/Central
X-LIC-LOCATION:US/Central
BEGIN:DAYLIGHT
DTSTART:20250309T030000
TZNAME:CDT
TZOFFSETFROM:-0600
TZOFFSETTO:-0500
END:DAYLIGHT
END:VTIMEZONE
END:VCALENDAR
