BEGIN:VCALENDAR
VERSION:2.0
PRODID:-//Plone.org//NONSGML plone.app.event//EN
X-WR-TIMEZONE:US/Central
BEGIN:VEVENT
SUMMARY:Library in Motion
DTSTART;TZID=US/Central:20250910T100000
DTEND;TZID=US/Central:20250910T110000
DTSTAMP:20260421T081924Z
UID:05cf1599fe3d4a4bb0812000e4ba0a4b@saas_stack_varnish:6080
CONTACT:Misty Strode\, (979)725-6608\, library@weimartx.gov
CREATED:20250819T193109Z
DESCRIPTION:"FUN Drum Exercise" - Led by Library Director Misty Strode\, C
 ardio Drumming is a fitness routine that combines drumming with cardiovasc
 ular exercise. Participants use drumsticks to hit an exercise ball (often 
 called a stability ball) while moving to music or a rhythmic beat. The mov
 ements can include drumming overhead\, to the side\, and even between the 
 legs\, offering a full-body workout.
LAST-MODIFIED:20250819T193120Z
LOCATION:Weimar Public Library
URL:https://weimar.ploud.net/library-in-motion-13
END:VEVENT
BEGIN:VTIMEZONE
TZID:US/Central
X-LIC-LOCATION:US/Central
BEGIN:DAYLIGHT
DTSTART:20250309T030000
TZNAME:CDT
TZOFFSETFROM:-0600
TZOFFSETTO:-0500
END:DAYLIGHT
END:VTIMEZONE
END:VCALENDAR
