BEGIN:VCALENDAR
VERSION:2.0
PRODID:-//Plone.org//NONSGML plone.app.event//EN
X-WR-TIMEZONE:US/Central
BEGIN:VEVENT
SUMMARY:Library in Motion
DTSTART;TZID=US/Central:20250903T100000
DTEND;TZID=US/Central:20250903T110000
DTSTAMP:20260421T080526Z
UID:cfd74b8cf143429493818af1e9c12488@saas_stack_varnish:6080
CONTACT:Misty Strode\, (979)725-6608\, library@weimartx.gov
CREATED:20250819T192644Z
DESCRIPTION:"Tai Chi Movements" - Led by Library Director Misty Strode\, t
 ai chi is a low-impact\, gentle exercise with roots in ancient Chinese mar
 tial arts\, often described as "meditation in motion". It combines slow\, 
 flowing movements with deep breathing and mental focus to promote both phy
 sical and mental well-being.
LAST-MODIFIED:20250819T192655Z
LOCATION:Weimar Public Library
URL:https://weimar.ploud.net/library-in-motion-10
END:VEVENT
BEGIN:VTIMEZONE
TZID:US/Central
X-LIC-LOCATION:US/Central
BEGIN:DAYLIGHT
DTSTART:20250309T030000
TZNAME:CDT
TZOFFSETFROM:-0600
TZOFFSETTO:-0500
END:DAYLIGHT
END:VTIMEZONE
END:VCALENDAR
