BEGIN:VCALENDAR
VERSION:2.0
PRODID:-//Plone.org//NONSGML plone.app.event//EN
X-WR-TIMEZONE:US/Central
BEGIN:VEVENT
SUMMARY:LAST DAY to Turn in Summer Reading Book Journals
DTSTART;TZID=US/Central:20250725T100000
DTEND;TZID=US/Central:20250725T170000
DTSTAMP:20260421T110808Z
UID:a07d8bc5a6d74132b86dd95ae6242285@saas_stack_varnish:6080
ATTENDEE;CN="All Ages";ROLE=REQ-PARTICIPANT:All Ages
CONTACT:Misty Strode\, (979)725-6608\, library@weimartx.gov
CREATED:20250707T161205Z
LAST-MODIFIED:20250707T161223Z
LOCATION:Weimar Public Library
URL:https://weimar.ploud.net/last-day-to-turn-in-summer-reading-book-journ
 als
END:VEVENT
BEGIN:VTIMEZONE
TZID:US/Central
X-LIC-LOCATION:US/Central
BEGIN:DAYLIGHT
DTSTART:20250309T030000
TZNAME:CDT
TZOFFSETFROM:-0600
TZOFFSETTO:-0500
END:DAYLIGHT
END:VTIMEZONE
END:VCALENDAR
