BEGIN:VCALENDAR
VERSION:2.0
PRODID:-//Plone.org//NONSGML plone.app.event//EN
X-WR-TIMEZONE:US/Central
BEGIN:VEVENT
SUMMARY:Friends of the Library Meeting
DTSTART;TZID=US/Central:20250912T100000
DTEND;TZID=US/Central:20250912T110000
DTSTAMP:20260421T110757Z
UID:c8c89f70ce624f3aab7441e033afe447@saas_stack_varnish:6080
CONTACT:Misty Strode\, (979)725-6608\, library@weimartx.gov
CREATED:20250902T152752Z
LAST-MODIFIED:20250902T152802Z
LOCATION:Weimar Public Library
URL:https://weimar.ploud.net/friends-of-the-library-meeting
END:VEVENT
BEGIN:VTIMEZONE
TZID:US/Central
X-LIC-LOCATION:US/Central
BEGIN:DAYLIGHT
DTSTART:20250309T030000
TZNAME:CDT
TZOFFSETFROM:-0600
TZOFFSETTO:-0500
END:DAYLIGHT
END:VTIMEZONE
END:VCALENDAR
