BEGIN:VCALENDAR
VERSION:2.0
PRODID:-//Plone.org//NONSGML plone.app.event//EN
X-WR-TIMEZONE:US/Central
BEGIN:VEVENT
SUMMARY:FOL Disaster Ready: Home Prep
DTSTART;TZID=US/Central:20250711T103000
DTEND;TZID=US/Central:20250711T120000
DTSTAMP:20260421T110708Z
UID:fddc186771b14178bb68fcb1c83556a4@saas_stack_varnish:6080
CONTACT:Misty Strode\, (979)725-6608\, library@weimartx.gov
CREATED:20250707T154033Z
DESCRIPTION:Presented by Stephen Burnett\, Disaster Assessment and Recover
 y Specialist
LAST-MODIFIED:20250707T154043Z
LOCATION:Weimar Public Library
URL:https://weimar.ploud.net/fol-disaster-ready-home-prep
END:VEVENT
BEGIN:VTIMEZONE
TZID:US/Central
X-LIC-LOCATION:US/Central
BEGIN:DAYLIGHT
DTSTART:20250309T030000
TZNAME:CDT
TZOFFSETFROM:-0600
TZOFFSETTO:-0500
END:DAYLIGHT
END:VTIMEZONE
END:VCALENDAR
