BEGIN:VCALENDAR
VERSION:2.0
PRODID:-//Plone.org//NONSGML plone.app.event//EN
X-WR-TIMEZONE:US/Central
BEGIN:VEVENT
SUMMARY:First Day of Fall
DTSTART;TZID=US/Central:20250922T110000
DTEND;TZID=US/Central:20250922T120000
DTSTAMP:20260421T110651Z
UID:2e600af8be2e4c84bf74a898e835f426@saas_stack_varnish:6080
CREATED:20250902T161226Z
LAST-MODIFIED:20250902T161244Z
URL:https://weimar.ploud.net/first-day-of-fall
END:VEVENT
BEGIN:VTIMEZONE
TZID:US/Central
X-LIC-LOCATION:US/Central
BEGIN:DAYLIGHT
DTSTART:20250309T030000
TZNAME:CDT
TZOFFSETFROM:-0600
TZOFFSETTO:-0500
END:DAYLIGHT
END:VTIMEZONE
END:VCALENDAR
