BEGIN:VCALENDAR
VERSION:2.0
PRODID:-//Plone.org//NONSGML plone.app.event//EN
X-WR-TIMEZONE:US/Central
BEGIN:VEVENT
SUMMARY:Library in Motion
DTSTART;TZID=US/Central:20260225T100000
DTEND;TZID=US/Central:20260225T110000
DTSTAMP:20260421T110743Z
UID:6eb06adac8e4409ab06fe8c22ddc2dce@saas_stack_varnish:6080
CONTACT:Misty Strode\, (979)725-6608\, library@weimartx.gov
CREATED:20260112T164328Z
LAST-MODIFIED:20260112T164406Z
LOCATION:Weimar Public Library
URL:https://weimar.ploud.net/family-storytime-31
END:VEVENT
BEGIN:VTIMEZONE
TZID:US/Central
X-LIC-LOCATION:US/Central
BEGIN:STANDARD
DTSTART:20251102T010000
TZNAME:CST
TZOFFSETFROM:-0500
TZOFFSETTO:-0600
END:STANDARD
END:VTIMEZONE
END:VCALENDAR
