BEGIN:VCALENDAR
VERSION:2.0
PRODID:-//Plone.org//NONSGML plone.app.event//EN
X-WR-TIMEZONE:US/Central
BEGIN:VEVENT
SUMMARY:Family Storytime/Little Spoonfuls: Cooking up a fairytale!
DTSTART;TZID=US/Central:20260226T100000
DTEND;TZID=US/Central:20260226T110000
DTSTAMP:20260421T110707Z
UID:b7d15518385648a4ae3f9d3dae8a5905@saas_stack_varnish:6080
CONTACT:Misty Strode\, (979)725-6608\, library@weimartx.gov
CREATED:20260112T163556Z
LAST-MODIFIED:20260128T185752Z
LOCATION:Weimar Public Library
URL:https://weimar.ploud.net/family-storytime-30
END:VEVENT
BEGIN:VTIMEZONE
TZID:US/Central
X-LIC-LOCATION:US/Central
BEGIN:STANDARD
DTSTART:20251102T010000
TZNAME:CST
TZOFFSETFROM:-0500
TZOFFSETTO:-0600
END:STANDARD
END:VTIMEZONE
END:VCALENDAR
