BEGIN:VCALENDAR
VERSION:2.0
PRODID:-//Plone.org//NONSGML plone.app.event//EN
X-WR-TIMEZONE:US/Central
BEGIN:VEVENT
SUMMARY:Family Storytime
DTSTART;TZID=US/Central:20260219T100000
DTEND;TZID=US/Central:20260219T110000
DTSTAMP:20260421T110707Z
UID:b914b4e89e574c69ad4c35296c1f7671@saas_stack_varnish:6080
CONTACT:Misty Strode\, library@weimartx.gov
CREATED:20260112T163253Z
LAST-MODIFIED:20260112T163305Z
LOCATION:Weimar Public Library
URL:https://weimar.ploud.net/family-storytime-29
END:VEVENT
BEGIN:VTIMEZONE
TZID:US/Central
X-LIC-LOCATION:US/Central
BEGIN:STANDARD
DTSTART:20251102T010000
TZNAME:CST
TZOFFSETFROM:-0500
TZOFFSETTO:-0600
END:STANDARD
END:VTIMEZONE
END:VCALENDAR
