BEGIN:VCALENDAR
VERSION:2.0
PRODID:-//Plone.org//NONSGML plone.app.event//EN
X-WR-TIMEZONE:US/Central
BEGIN:VEVENT
SUMMARY:Family Storytime
DTSTART;TZID=US/Central:20260212T100000
DTEND;TZID=US/Central:20260212T110000
DTSTAMP:20260421T110743Z
UID:5eb92d0b569c4c0e96c3b8c01a721643@saas_stack_varnish:6080
CONTACT:Misty Strode\, (979)725-6608\, library@weimartx.gov
CREATED:20260112T162503Z
LAST-MODIFIED:20260112T162529Z
LOCATION:Weimar Public Library
URL:https://weimar.ploud.net/family-storytime-28
END:VEVENT
BEGIN:VTIMEZONE
TZID:US/Central
X-LIC-LOCATION:US/Central
BEGIN:STANDARD
DTSTART:20251102T010000
TZNAME:CST
TZOFFSETFROM:-0500
TZOFFSETTO:-0600
END:STANDARD
END:VTIMEZONE
END:VCALENDAR
