BEGIN:VCALENDAR
VERSION:2.0
PRODID:-//Plone.org//NONSGML plone.app.event//EN
X-WR-TIMEZONE:US/Central
BEGIN:VEVENT
SUMMARY:Family Storytime
DTSTART;TZID=US/Central:20250925T100000
DTEND;TZID=US/Central:20250925T110000
DTSTAMP:20260421T110742Z
UID:24bb423546d54667b8a426f3b045178a@saas_stack_varnish:6080
CONTACT:Misty Strode\, (979)725-6608\, library@weimartx.gov
CREATED:20250902T151938Z
DESCRIPTION:Storytime Theme: "Math Storytelling and Johnny Appleseed"
LAST-MODIFIED:20250902T151947Z
LOCATION:Weimar Public Library
URL:https://weimar.ploud.net/family-storytime-16
END:VEVENT
BEGIN:VTIMEZONE
TZID:US/Central
X-LIC-LOCATION:US/Central
BEGIN:DAYLIGHT
DTSTART:20250309T030000
TZNAME:CDT
TZOFFSETFROM:-0600
TZOFFSETTO:-0500
END:DAYLIGHT
END:VTIMEZONE
END:VCALENDAR
