BEGIN:VCALENDAR
VERSION:2.0
PRODID:-//Plone.org//NONSGML plone.app.event//EN
X-WR-TIMEZONE:US/Central
BEGIN:VEVENT
SUMMARY:Family Storytime
DTSTART;TZID=US/Central:20250918T100000
DTEND;TZID=US/Central:20250918T110000
DTSTAMP:20260421T110741Z
UID:570f6a4025b4437aabbebba732e7904a@saas_stack_varnish:6080
CONTACT:Misty Strode\, (979)725-6608\, library@weimartx.gov
CREATED:20250902T151615Z
DESCRIPTION:Storytime Theme: "Welcome Fall Season"
LAST-MODIFIED:20250902T151623Z
LOCATION:Weimar Public Library
URL:https://weimar.ploud.net/family-storytime-15
END:VEVENT
BEGIN:VTIMEZONE
TZID:US/Central
X-LIC-LOCATION:US/Central
BEGIN:DAYLIGHT
DTSTART:20250309T030000
TZNAME:CDT
TZOFFSETFROM:-0600
TZOFFSETTO:-0500
END:DAYLIGHT
END:VTIMEZONE
END:VCALENDAR
