BEGIN:VCALENDAR
VERSION:2.0
PRODID:-//Plone.org//NONSGML plone.app.event//EN
X-WR-TIMEZONE:US/Central
BEGIN:VEVENT
SUMMARY:American Mah Jongg Class
DTSTART;TZID=US/Central:20250925T153000
DTEND;TZID=US/Central:20250925T163000
DTSTAMP:20260421T110742Z
UID:88370540ca42410a89c88ae4c4975bf3@saas_stack_varnish:6080
CONTACT:Misty Strode\, (979)725-6608\, library@weimartx.gov
CREATED:20250902T152531Z
DESCRIPTION:**NEW CLASS**\nMah jongg (or mahjongg) is a tile-based game or
 iginating in China that is played in various forms\, including the America
 n and International versions. Players use tiles to form sets and pairs\, s
 imilar to rummy\, but with unique tiles and a focus on forming specific "h
 ands" according to a yearly published "Standard Card" in the American vers
 ion. The game involves drawing and discarding tiles\, and a player wins by
  being the first to declare they have completed a hand.
LAST-MODIFIED:20250902T152541Z
LOCATION:Weimar Public Library
URL:https://weimar.ploud.net/american-mah-jongg-class
END:VEVENT
BEGIN:VTIMEZONE
TZID:US/Central
X-LIC-LOCATION:US/Central
BEGIN:DAYLIGHT
DTSTART:20250309T030000
TZNAME:CDT
TZOFFSETFROM:-0600
TZOFFSETTO:-0500
END:DAYLIGHT
END:VTIMEZONE
END:VCALENDAR
